BEGIN:VCALENDAR
VERSION:2.0
METHOD:PUBLISH
CALSCALE:GREGORIAN
PRODID:-//WordPress - MECv7.9.0//EN
X-ORIGINAL-URL:https://sakyatenphelling.org/
X-WR-CALNAME:The Singapore Buddha Sasana Society
X-WR-CALDESC:Sakya Tenphel Ling
REFRESH-INTERVAL;VALUE=DURATION:PT1H
X-PUBLISHED-TTL:PT1H
X-MS-OLK-FORCEINSPECTOROPEN:TRUE
BEGIN:VEVENT
CLASS:PUBLIC
UID:MEC-f85454e8279be180185cac7d243c5eb3@sakyatenphelling.org
DTSTART:20260503T050000Z
DTEND:20260503T063000Z
DTSTAMP:20210131T234800Z
RRULE:FREQ=MONTHLY;WKST=MO;BYDAY=1SU
CREATED:20210201
LAST-MODIFIED:20210201
PRIORITY:5
SEQUENCE:0
TRANSP:OPAQUE
SUMMARY:Medicine Buddha Puja (English)
DESCRIPTION:Able to overcome mental and physical illnesses so as to endow with a healthy wish-fulfilling life\nTHIS WORLDLY EXISTENCE OF OURS PERVADES WITH SUFFERINGS.\nPhysically we suffer from birth, sickness, old age and death. Mentally we suffer from obsessions, insecurities and paranoia.\nAll living beings wish to have happiness and be rid of sufferings in their lives. Sadly, every attempt and effort made, countless times all over, are futile at the end. Due to ignorance, attachment and hatred, beings are ever tightly bound since time immemorial to the cycle of existence.\nThe Buddha of Healing and Medicine\nOver the Eastern Direction,  crossing many, many Buddha’s realms in a place far, far away, in the  land of the Lapis lazuli, live the Buddha of Healing and Medicine, Bhaiṣajya-guru-vaidūrya prabha-rāja, Seeing the inevitable debacle of life of every living being, the Buddha of Medicine vowed to help all after he attained complete enlightenment. He made the 12 great vows so as to diminish and finally abolish all physical and mental suffering of living beings and lead them to liberation from this samsaric world.\nThe Lord Shakaymuni Buddha expounded the great and noble activities of this Medicine Buddha, Bhaisajya guru, so that beings from this world can benefit from His great vows.\nThe 12 Great Vows of Medicine Buddha\nIn accordance to the Mahayana Sutra of the Medicine Buddha the Twelve Great Vows are:\n(as  quoted)\n\nTo illuminate countless realms with his radiance, enabling anyone to become a Buddha just like him.\nTo awaken the minds of sentient beings through his light of lapis lazuli.\nTo provide the sentient beings with whatever material needs they require.\nTo correct heretical views and inspire beings toward the path of the Bodhisattva\nTo help beings follow the Moral Precepts, even if they failed before.\nTo heal beings born with deformities, illness or other physical sufferings\nTo help relieve the destitute and the sick\nTo help women who wish to be reborn as men achieve their desired rebirth\nTo help heal mental afflictions and delusions.\nTo help the oppressed be free from suffering.\nTo relieve those who suffer from terrible hunger and thirst.\nTo help clothe those who are destitute and suffering from cold and mosquitoes.\n\n \nBenefits\nWE PROPITIATE  to the Buddha of Medicine to provide a powerful method for healing and increase healing powers both for oneself and others, and also for overcoming the poisons of ignorance, attachment and hatred, the causes of all sickness in ourselves.\nParticipating in the Puja, one receives blessing, CREATES CONDITIONS OF HEALING, thus alleviating physical and spiritual well being.\nCollaborating in the elevation of oneself and others sufferings by not only participating in the puja but  also to emulate the  noble and compassionate activities of the Supreme Healer by literally reaching out to the unfortunate ones directly or indirectly.\n
URL:https://sakyatenphelling.org/events/medicine-buddha-puja-english/
CATEGORIES:Regular Activities
ATTACH;FMTTYPE=image/jpeg:https://sakyatenphelling.org/wp-content/uploads/2021/01/0fdef010d8449c2dbec2cb4abf2c71a0.jpg
END:VEVENT
BEGIN:VEVENT
CLASS:PUBLIC
UID:MEC-1a5b1e4daae265b790965a275b53ae50@sakyatenphelling.org
DTSTART:20260428T120000Z
DTEND:20260428T133000Z
DTSTAMP:20210201T011800Z
RRULE:FREQ=WEEKLY
CREATED:20210201
LAST-MODIFIED:20240709
PRIORITY:5
SEQUENCE:1
TRANSP:OPAQUE
SUMMARY:Chenrezig Guided Meditation (Chinese)
DESCRIPTION:\nChenrezig is another form of the famous Bodhisattva Kuan Yin.He symbolise compassion and is popularly invoked by devotees to help them escape from sufferings.Changchogs are rituals done for the benefits of a deceased.It purifies the misdeeds of the deceased and liberates them to better existence.:If one is able to perform the completed process of the changchog, from its preparation to the Actual ritual and its concluding attributes, without mistakes and unfabricated, according to the authentic tradition, it will be very beneficial for the deceased.It can benefit the deceased even if he or she has already found rebirth in any of the six realms of existence.It is said in the Tantras that if the deceased has already attained Enlightenment, it will enhance His or Her Enlightened activities and will benefit other sentient beings even though one thousand years may have elapsed since death.During the Ritual, whatever meritorious deeds are dedicated to the dead, they will benefit his or her rebirth in any of the six realms and will increase his or her beneficial activities to other sentient beings if the deceased has  already attained Buddhahood.
URL:https://sakyatenphelling.org/events/chenrezig-guided-meditation-chinese/
CATEGORIES:Regular Activities
ATTACH;FMTTYPE=image/jpeg:https://sakyatenphelling.org/wp-content/uploads/2021/01/2e13bba5bb450c9d80657c4a4b558bbc.jpg
END:VEVENT
BEGIN:VEVENT
CLASS:PUBLIC
UID:MEC-15d4e891d784977cacbfcbb00c48f133@sakyatenphelling.org
DTSTART:20260430T120000Z
DTEND:20260430T133000Z
DTSTAMP:20210201T010600Z
RRULE:FREQ=WEEKLY
CREATED:20210201
LAST-MODIFIED:20240709
PRIORITY:5
SEQUENCE:1
TRANSP:OPAQUE
SUMMARY:Chenrezig Guided Meditation (English)
DESCRIPTION:\nChenrezig is another form of the famous Bodhisattva Kuan Yin.He symbolise compassion and is popularly invoked by devotees to help them escape from sufferings.Changchogs are rituals done for the benefits of a deceased.It purifies the misdeeds of the deceased and liberates them to better existence.:If one is able to perform the completed process of the changchog, from its preparation to the Actual ritual and its concluding attributes, without mistakes and unfabricated, according to the authentic tradition, it will be very beneficial for the deceased.It can benefit the deceased even if he or she has already found rebirth in any of the six realms of existence.It is said in the Tantras that if the deceased has already attained Enlightenment, it will enhance His or Her Enlightened activities and will benefit other sentient beings even though one thousand years may have elapsed since death.During the Ritual, whatever meritorious deeds are dedicated to the dead, they will benefit his or her rebirth in any of the six realms and will increase his or her beneficial activities to other sentient beings if the deceased has  already attained Buddhahood.
URL:https://sakyatenphelling.org/events/chenrezig-guided-meditation-english/
CATEGORIES:Regular Activities
ATTACH;FMTTYPE=image/jpeg:https://sakyatenphelling.org/wp-content/uploads/2021/01/2e13bba5bb450c9d80657c4a4b558bbc.jpg
END:VEVENT
BEGIN:VEVENT
CLASS:PUBLIC
UID:MEC-e44fea3bec53bcea3b7513ccef5857ac@sakyatenphelling.org
DTSTART:20260426T013000Z
DTEND:20260426T034500Z
DTSTAMP:20210201T012000Z
RRULE:FREQ=WEEKLY
CREATED:20210201
LAST-MODIFIED:20240904
PRIORITY:5
SEQUENCE:6
TRANSP:OPAQUE
SUMMARY:Tara Puja
DESCRIPTION:Green Tara arises from the great compassion of Avalokiteshvara (Guan Yin).\nShe is the embodiment of Buddha’s Loving Kindness (a selfless wish for all beings to have happiness).\nTherefore prayers to Green Tara are known to be effective with the right motivation.\n
URL:https://sakyatenphelling.org/events/tara-puja/
CATEGORIES:Regular Activities
ATTACH;FMTTYPE=image/jpeg:https://sakyatenphelling.org/wp-content/uploads/2021/01/cc083671658c6a996ad7f2eb82efa459.jpg
END:VEVENT
BEGIN:VEVENT
CLASS:PUBLIC
UID:MEC-1006ff12c465532f8c574aeaa4461b16@sakyatenphelling.org
DTSTART:20260509T010000Z
DTEND:20260509T040000Z
DTSTAMP:20260423T080900Z
CREATED:20260423
LAST-MODIFIED:20260423
PRIORITY:5
SEQUENCE:1
TRANSP:OPAQUE
SUMMARY:Naga Puja
DESCRIPTION:\n
URL:https://sakyatenphelling.org/events/naga-puja-4/
END:VEVENT
BEGIN:VEVENT
CLASS:PUBLIC
UID:MEC-fc192b0c0d270dbf41870a63a8c76c2f@sakyatenphelling.org
DTSTART:20260502T013000Z
DTEND:20260502T053000Z
DTSTAMP:20260423T081000Z
CREATED:20260423
LAST-MODIFIED:20260423
PRIORITY:5
SEQUENCE:1
TRANSP:OPAQUE
SUMMARY:Three Long Life Deities Puja
DESCRIPTION:\n
URL:https://sakyatenphelling.org/events/three-long-life-deities-puja/
END:VEVENT
END:VCALENDAR
